BEGIN:VCALENDAR
VERSION:2.0
PRODID:-//South Wisconsin District - The Lutheran Church--Missouri Synod - ECPv5.2.1//NONSGML v1.0//EN
CALSCALE:GREGORIAN
METHOD:PUBLISH
X-WR-CALNAME:South Wisconsin District - The Lutheran Church--Missouri Synod
X-ORIGINAL-URL:https://swd.lcms.org
X-WR-CALDESC:Events for South Wisconsin District - The Lutheran Church--Missouri Synod
BEGIN:VTIMEZONE
TZID:America/Chicago
BEGIN:DAYLIGHT
TZOFFSETFROM:-0600
TZOFFSETTO:-0500
TZNAME:CDT
DTSTART:20190310T080000
END:DAYLIGHT
BEGIN:STANDARD
TZOFFSETFROM:-0500
TZOFFSETTO:-0600
TZNAME:CST
DTSTART:20191103T070000
END:STANDARD
END:VTIMEZONE
BEGIN:VEVENT
DTSTART;VALUE=DATE:20190126
DTEND;VALUE=DATE:20190127
DTSTAMP:20210602T001011
CREATED:20180725T141022Z
LAST-MODIFIED:20180725T141022Z
UID:10176-1548460800-1548547199@swd.lcms.org
SUMMARY:SWD Passionate Believers Conference
DESCRIPTION:Mark your calendars!
URL:https://swd.lcms.org/calendar/swd-passionate-believers-conference/
LOCATION:Divine Redeemer Lutheran Church & School\, 31385 W. Hill Street\, Hartland\, 53029\, United States
ORGANIZER;CN="Barb%20Slak":MAILTO:slak@swd.lcms.rog
END:VEVENT
END:VCALENDAR