BEGIN:VCALENDAR
VERSION:2.0
PRODID:-//South Wisconsin District - The Lutheran Church--Missouri Synod - ECPv5.2.1//NONSGML v1.0//EN
CALSCALE:GREGORIAN
METHOD:PUBLISH
X-WR-CALNAME:South Wisconsin District - The Lutheran Church--Missouri Synod
X-ORIGINAL-URL:https://swd.lcms.org
X-WR-CALDESC:Events for South Wisconsin District - The Lutheran Church--Missouri Synod
BEGIN:VTIMEZONE
TZID:America/Chicago
BEGIN:DAYLIGHT
TZOFFSETFROM:-0600
TZOFFSETTO:-0500
TZNAME:CDT
DTSTART:20200308T080000
END:DAYLIGHT
BEGIN:STANDARD
TZOFFSETFROM:-0500
TZOFFSETTO:-0600
TZNAME:CST
DTSTART:20201101T070000
END:STANDARD
END:VTIMEZONE
BEGIN:VEVENT
DTSTART;VALUE=DATE:20201012
DTEND;VALUE=DATE:20201013
DTSTAMP:20210522T151350
CREATED:20200819T185416Z
LAST-MODIFIED:20201005T212949Z
UID:13053-1602460800-1602547199@swd.lcms.org
SUMMARY:Principals' Conference 2020
DESCRIPTION:Monday\, October 12\, 2020 \nSpeaker:  Ted Neitzke \nTime:    8:15 am – 4 pm \nCost:     $25 per person \nThis years conference will be virtual. You will need to register to receive the link for the conference. \nSchedule\n8:15 AM– Meeting room opens\n8:25 AM– Welcome and opening prayer\n8:30 – 10:00 AM – Keynote – Ted Neitzke\n10:00-10:15 AM – Break\n10:15–11:45 AM – Keynote – Ted Neitzke\n11:45–12 PM – Dennis Gehrke/NLSA\n12 – 2:00 PM  – Break\n2:00-3:00 PM – WCRIS\n3:00-4:00 PM – WILL \nOnline registration is open through October 5.
URL:https://swd.lcms.org/calendar/principals-conference-2020/
LOCATION:Virtual
ORGANIZER;CN="Robin%20Mueller":MAILTO:mueller@swd.lcms.org
END:VEVENT
END:VCALENDAR