BEGIN:VCALENDAR
VERSION:2.0
PRODID:-//South Wisconsin District - The Lutheran Church--Missouri Synod - ECPv5.2.1//NONSGML v1.0//EN
CALSCALE:GREGORIAN
METHOD:PUBLISH
X-WR-CALNAME:South Wisconsin District - The Lutheran Church--Missouri Synod
X-ORIGINAL-URL:https://swd.lcms.org
X-WR-CALDESC:Events for South Wisconsin District - The Lutheran Church--Missouri Synod
BEGIN:VTIMEZONE
TZID:America/Chicago
BEGIN:DAYLIGHT
TZOFFSETFROM:-0600
TZOFFSETTO:-0500
TZNAME:CDT
DTSTART:20210314T080000
END:DAYLIGHT
BEGIN:STANDARD
TZOFFSETFROM:-0500
TZOFFSETTO:-0600
TZNAME:CST
DTSTART:20211107T070000
END:STANDARD
END:VTIMEZONE
BEGIN:VEVENT
DTSTART;TZID=America/Chicago:20210103T150000
DTEND;TZID=America/Chicago:20210103T170000
DTSTAMP:20210522T170044
CREATED:20201209T153319Z
LAST-MODIFIED:20201209T153319Z
UID:13374-1609686000-1609693200@swd.lcms.org
SUMMARY:"Music at Historic Trinity" Epiphany Choral Vespers
DESCRIPTION:Epiphany Choral Vespers\nSunday\, January 3\, 2021 at 3:00 PM\nLuther Memorial Chapel\, 3833 N. Maryland Ave.\, Shorewood\, WI \nOrganist & Choir Director: Ben Culli (Our Savior\, Whitefish Bay)\nPreacher: Pastor M. Douglas Peters (Trinity\, Milwaukee)\nLiturgist: Pastor Michael C. Larson (Luther Memorial\, Shorewood) \nJoin us for sacred music of the season with singers representing the choirs of:\n \nFaith Lutheran Church\, Germantown\nLuther Memorial Chapel\, Shorewood\nOur Savior Lutheran Church\, Whitefish Bay\nTrinity Lutheran Church of Freistadt\nTrinity Lutheran Church\, Milwaukee \nWe are grateful to Luther Memorial for again hosting the Epiphany Choral Vespers while repairs continue at Trinity following the devastating fire of May 2018. A Free Will Offering will be received. Physical distancing and mask protocols will be followed. \n\nPlease note: Information about the live streaming of this service will be posted on the “Music at Historic Trinity” Facebook page (www.facebook.com/musicathistorictrinity) and on the Trinity Ev. Lutheran Church website (www.trinitymilwaukee.org). \nIn the event of cancellation\, information will also be provided on the Facebook page and website. \n\n“Music at Historic Trinity” offers resources and opportunities to present and enjoy God’s gift of music in honor of the legacy of Trinity’s magnificent 1878 sanctuary and to the glory of God.
URL:https://swd.lcms.org/calendar/music-at-historic-trinity-epiphany-choral-vespers/
LOCATION:Luther Memorial Chapel\, 3833 N. Maryland Ave\, Shorewood\, WI
END:VEVENT
END:VCALENDAR