BEGIN:VCALENDAR
VERSION:2.0
PRODID:-//South Wisconsin District - The Lutheran Church--Missouri Synod - ECPv5.2.1//NONSGML v1.0//EN
CALSCALE:GREGORIAN
METHOD:PUBLISH
X-WR-CALNAME:South Wisconsin District - The Lutheran Church--Missouri Synod
X-ORIGINAL-URL:https://swd.lcms.org
X-WR-CALDESC:Events for South Wisconsin District - The Lutheran Church--Missouri Synod
BEGIN:VTIMEZONE
TZID:America/Chicago
BEGIN:DAYLIGHT
TZOFFSETFROM:-0600
TZOFFSETTO:-0500
TZNAME:CDT
DTSTART:20160313T080000
END:DAYLIGHT
BEGIN:STANDARD
TZOFFSETFROM:-0500
TZOFFSETTO:-0600
TZNAME:CST
DTSTART:20161106T070000
END:STANDARD
END:VTIMEZONE
BEGIN:VEVENT
DTSTART;TZID=America/Chicago:20160212T074500
DTEND;TZID=America/Chicago:20160212T150000
DTSTAMP:20210607T032400
CREATED:20150710T213117Z
LAST-MODIFIED:20150715T192445Z
UID:5266-1455263100-1455289200@swd.lcms.org
SUMMARY:Firm Foundations 2015/2016
DESCRIPTION:August 14  •  November 6  •  February 12\nMartin Luther High School\n5201 S. 76th St.\nGreendale \n“Teach Like a Champion” \nWe know students don’t learn the same way. We also know teachers shouldn’t teach every student the same way. How do you get the best out of your students and teachers? By creating a classroom with structure and providing inspiring student engagement. Through this workshop\, teachers will be able to apply instructional strategies and best practices in their classrooms to help bring out the best in our students across each of our campuses. \nThis model is also inclusive of direct and meaningful collaboration with Kole Knueppel’s organization “Schools That Can Milwaukee” (STCM)\, Center for Urban Teacher (CfUT) and LUMIN schools. \nCost covers all three days. \nRegistration begins at 8 am with worship at 8:30 am. \n \n 
URL:https://swd.lcms.org/calendar/firm-foundations-20152016-2/
LOCATION:Martin Luther High School\, 5201 S. 76th St.\, Greendale
END:VEVENT
END:VCALENDAR