BEGIN:VCALENDAR
VERSION:2.0
PRODID:-//South Wisconsin District - The Lutheran Church--Missouri Synod - ECPv5.2.1//NONSGML v1.0//EN
CALSCALE:GREGORIAN
METHOD:PUBLISH
X-WR-CALNAME:South Wisconsin District - The Lutheran Church--Missouri Synod
X-ORIGINAL-URL:https://swd.lcms.org
X-WR-CALDESC:Events for South Wisconsin District - The Lutheran Church--Missouri Synod
BEGIN:VTIMEZONE
TZID:America/Chicago
BEGIN:DAYLIGHT
TZOFFSETFROM:-0600
TZOFFSETTO:-0500
TZNAME:CDT
DTSTART:20200308T080000
END:DAYLIGHT
BEGIN:STANDARD
TZOFFSETFROM:-0500
TZOFFSETTO:-0600
TZNAME:CST
DTSTART:20201101T070000
END:STANDARD
END:VTIMEZONE
BEGIN:VEVENT
DTSTART;TZID=America/Chicago:20200229T093000
DTEND;TZID=America/Chicago:20200229T113000
DTSTAMP:20210528T025514
CREATED:20200214T202512Z
LAST-MODIFIED:20200214T202733Z
UID:12528-1582968600-1582975800@swd.lcms.org
SUMMARY:February 29 -The Bible in Ruins - Rev. Dr. Nathan Jastram @Pilgrim Ev. Lutheran Church\, West Bend
DESCRIPTION:Please join us at Pilgrim Ev. Lutheran Church\, West Bend on Feb. 29th at 9:30 am till 11:30 am \nDr. Nathan Jastram will be speaking on the topic of the Bible in Ruins.  Though many people think of the bible as a book of myths and religious speculation\, it claims to be a book of reality\, speaking of real people\, cities\, and nations\, and God’s actions in real history.  Come see how ancient ruins discovered through archaeology support the reality of biblical claims.  There is no cost but there is a free-will offering taken up to give to Concordia Bible Institute. \n  \n  \n  \n  \n 
URL:https://swd.lcms.org/calendar/february-29the-bible-in-ruins-rev-dr-nathan-jastram-pilgrim-ev-lutheran-church-west-bend/
END:VEVENT
END:VCALENDAR