BEGIN:VCALENDAR
VERSION:2.0
PRODID:-//South Wisconsin District - The Lutheran Church--Missouri Synod - ECPv5.2.1//NONSGML v1.0//EN
CALSCALE:GREGORIAN
METHOD:PUBLISH
X-WR-CALNAME:South Wisconsin District - The Lutheran Church--Missouri Synod
X-ORIGINAL-URL:https://swd.lcms.org
X-WR-CALDESC:Events for South Wisconsin District - The Lutheran Church--Missouri Synod
BEGIN:VTIMEZONE
TZID:America/Chicago
BEGIN:DAYLIGHT
TZOFFSETFROM:-0600
TZOFFSETTO:-0500
TZNAME:CDT
DTSTART:20200308T080000
END:DAYLIGHT
BEGIN:STANDARD
TZOFFSETFROM:-0500
TZOFFSETTO:-0600
TZNAME:CST
DTSTART:20201101T070000
END:STANDARD
END:VTIMEZONE
BEGIN:VEVENT
DTSTART;TZID=America/Chicago:20200229T090000
DTEND;TZID=America/Chicago:20200229T160000
DTSTAMP:20210528T025459
CREATED:20191210T172614Z
LAST-MODIFIED:20200207T215400Z
UID:12357-1582966800-1582992000@swd.lcms.org
SUMMARY:February 29 - Christianity in a Post Christian Culture - St. John\, Cudahy
DESCRIPTION:Christianity in a Post Christian Culture Poster
URL:https://swd.lcms.org/calendar/christianity-in-a-post-christian-culture-st-john-cudahy-wisconsin/
LOCATION:St. John Lutheran Church\, Cudahy\, Wiscosnin\, 4850 S. Lake Drive\, Cudahy\, WI\, United States
END:VEVENT
END:VCALENDAR