BEGIN:VCALENDAR
VERSION:2.0
PRODID:-//South Wisconsin District - The Lutheran Church--Missouri Synod - ECPv5.2.1//NONSGML v1.0//EN
CALSCALE:GREGORIAN
METHOD:PUBLISH
X-WR-CALNAME:South Wisconsin District - The Lutheran Church--Missouri Synod
X-ORIGINAL-URL:https://swd.lcms.org
X-WR-CALDESC:Events for South Wisconsin District - The Lutheran Church--Missouri Synod
BEGIN:VTIMEZONE
TZID:America/Chicago
BEGIN:DAYLIGHT
TZOFFSETFROM:-0600
TZOFFSETTO:-0500
TZNAME:CDT
DTSTART:20190310T080000
END:DAYLIGHT
BEGIN:STANDARD
TZOFFSETFROM:-0500
TZOFFSETTO:-0600
TZNAME:CST
DTSTART:20191103T070000
END:STANDARD
END:VTIMEZONE
BEGIN:VEVENT
DTSTART;TZID=America/Chicago:20190107T080000
DTEND;TZID=America/Chicago:20190107T170000
DTSTAMP:20210602T000950
CREATED:20180814T205230Z
LAST-MODIFIED:20180814T205230Z
UID:10262-1546848000-1546880400@swd.lcms.org
SUMMARY:2019 Pre-Lent Retreat
DESCRIPTION:Save the date.  Stay tuned for more information.
URL:https://swd.lcms.org/calendar/2019-pre-lent-retreat/
LOCATION:Pilgrim Lutheran Church\, 462 Meadowbrook Drive\, West Bend\, WI\, 53090\, United States
ORGANIZER;CN="Rev.%20Christpher%20Seifferlein":MAILTO:pastor@emmanueladell.org
END:VEVENT
END:VCALENDAR