BEGIN:VCALENDAR
VERSION:2.0
PRODID:-//South Wisconsin District - The Lutheran Church--Missouri Synod - ECPv5.2.1//NONSGML v1.0//EN
CALSCALE:GREGORIAN
METHOD:PUBLISH
X-WR-CALNAME:South Wisconsin District - The Lutheran Church--Missouri Synod
X-ORIGINAL-URL:https://swd.lcms.org
X-WR-CALDESC:Events for South Wisconsin District - The Lutheran Church--Missouri Synod
BEGIN:VTIMEZONE
TZID:America/Chicago
BEGIN:DAYLIGHT
TZOFFSETFROM:-0600
TZOFFSETTO:-0500
TZNAME:CDT
DTSTART:20190310T080000
END:DAYLIGHT
BEGIN:STANDARD
TZOFFSETFROM:-0500
TZOFFSETTO:-0600
TZNAME:CST
DTSTART:20191103T070000
END:STANDARD
END:VTIMEZONE
BEGIN:VEVENT
DTSTART;TZID=America/Chicago:20190513T130000
DTEND;TZID=America/Chicago:20190515T120000
DTSTAMP:20210724T162725
CREATED:20180307T174905Z
LAST-MODIFIED:20180814T202755Z
UID:9597-1557752400-1557921600@swd.lcms.org
SUMMARY:2019 Spring Pastors Conference
DESCRIPTION:Save the Dates!
URL:https://swd.lcms.org/calendar/2019-spring-pastors-conference/
LOCATION:Radisson Hotel\, 200 Harborview Plaza\, LaCrosse\, WI\, 54601\, United States
ORGANIZER;CN="Karen%20Rayner":MAILTO:rayner@swd.lcms.org
END:VEVENT
END:VCALENDAR